BEGIN:VCALENDAR
VERSION:2.0
PRODID:-//Lyrikhandlung am Hölderlinturm - ECPv6.15.20//NONSGML v1.0//EN
CALSCALE:GREGORIAN
METHOD:PUBLISH
X-WR-CALNAME:Lyrikhandlung am Hölderlinturm
X-ORIGINAL-URL:https://lyrikhandlung.de
X-WR-CALDESC:Veranstaltungen für Lyrikhandlung am Hölderlinturm
REFRESH-INTERVAL;VALUE=DURATION:PT1H
X-Robots-Tag:noindex
X-PUBLISHED-TTL:PT1H
BEGIN:VTIMEZONE
TZID:Europe/Berlin
BEGIN:DAYLIGHT
TZOFFSETFROM:+0100
TZOFFSETTO:+0200
TZNAME:CEST
DTSTART:20210328T010000
END:DAYLIGHT
BEGIN:STANDARD
TZOFFSETFROM:+0200
TZOFFSETTO:+0100
TZNAME:CET
DTSTART:20211031T010000
END:STANDARD
BEGIN:DAYLIGHT
TZOFFSETFROM:+0100
TZOFFSETTO:+0200
TZNAME:CEST
DTSTART:20220327T010000
END:DAYLIGHT
BEGIN:STANDARD
TZOFFSETFROM:+0200
TZOFFSETTO:+0100
TZNAME:CET
DTSTART:20221030T010000
END:STANDARD
BEGIN:DAYLIGHT
TZOFFSETFROM:+0100
TZOFFSETTO:+0200
TZNAME:CEST
DTSTART:20230326T010000
END:DAYLIGHT
BEGIN:STANDARD
TZOFFSETFROM:+0200
TZOFFSETTO:+0100
TZNAME:CET
DTSTART:20231029T010000
END:STANDARD
END:VTIMEZONE
BEGIN:VEVENT
DTSTART;TZID=Europe/Berlin:20221010T193000
DTEND;TZID=Europe/Berlin:20221010T193000
DTSTAMP:20260421T194903
CREATED:20220921T093159Z
LAST-MODIFIED:20220921T093438Z
UID:6295-1665430200-1665430200@lyrikhandlung.de
SUMMARY:Lyrik-Lesung mit Musik - Es lesen Mechthild Paul und Bernd Storz
DESCRIPTION:Über den Weg des fühlenden Denkens und von Suchenden\, die fündig werden. \nGedichte muss man laut lesen und laut hören\, um die Unmittelbarkeit der Sprache und der künstlerischen Arbeit erleben zu können. Dazu gibt es an diesem Abend eine gute Gelegenheit. Mechthild Paul liest aus ihrem Buch „Blattwerk“\, Bernd Storz aus „Sommergespräche“. Umrahmt wird die Lesung von der Musik des Akkordeonisten Andreas Eisenhardt. \nZu Mechthild Paul schreibt der Psychoanalytiker und Autor Tilman Moser: „Es sind fesselnde Gedichte\, die eine erste Würdigung verlangen\, weil sie ihre Sprachkraft zeigen am Stoff ihres langen Lebens. Sie kommt aus einer Generation in der kaum über Gefühle und Gedanken darüber\, geredet wurde. Das Buch zeigt auf spannende Weise ihre Suche nach dem Wort und seiner emotionalen Wahrheit\, über den Weg des fühlenden Denkens und des denkenden Fühlens. Sie nimmt den Leser mit auf seine eigene Reise in das Innere einer erwachenden Persönlichkeit.“ \n„Zartheit und Biss“ wird den häufig auf der Schwäbischen Alb und am Bodensee angesiedelten Gedichten von Bernd Storz bescheinigt. Sie handeln vom Staunen über Lebensglück oder Entsetzen über Gewalt und Desaster\, beziehen Position\, wehren sich gegen die Banalität des\nGegebenen und lassen dabei das Geglückte nicht aus dem Auge. \nDer Literaturkritiker Thorsten Paprotny schreibt über „Sommergespräche“: „Die eine Leserin und der andere Leser mag gelegentlich bei der Lektüre auch an sich selbst denken. Einige werden lange oder länger bei ‚Ich habe Dich schon immer gesucht‘ verweilen\, im Wissen darum\, dass manche Suchende auch fündig werden.“
URL:https://lyrikhandlung.de/lyrikkalender-bw/lyrik-lesung-mit-musik-es-lesen-mechthild-paul-und-bernd-storz/
LOCATION:Stadtbücherei Metzingen Kalebskelter\, Christophstraße 7\, Metzingen\, Baden-Würtemberg\, 72555\, Deutschland
ATTACH;FMTTYPE=image/jpeg:https://lyrikhandlung.de/wp-content/uploads/2022/09/Mechthild-Paul-und-Bernd-Storz.jpg
ORGANIZER;CN="Stadtb%C3%BCcherei Metzingen Kalebskelter":MAILTO:stadtbuecherei@metzingen.de
END:VEVENT
BEGIN:VEVENT
DTSTART;TZID=Europe/Berlin:20221014T190000
DTEND;TZID=Europe/Berlin:20221014T213000
DTSTAMP:20260421T194903
CREATED:20221010T173827Z
LAST-MODIFIED:20221010T203431Z
UID:6407-1665774000-1665783000@lyrikhandlung.de
SUMMARY:1. Ulmer Lyriknacht
DESCRIPTION:Schlussakkord des von der Baden-Württemberg Stiftung im Rahmen des Literatursommers geförderten Ulmer Lyriksommers: 1. Ulmer Lyriknacht. \nAm Freitag\, den 14. Oktober 2022 um 19 Uhr\, findet im Haus der Begegnung in Ulm (Grüner Hof 7\, 89073 Ulm; Parkhaus Stadtmitte) die 1. Ulmer Lyriknacht statt. Sie beschließt gleichzeitig die Veranstaltungsreihe des Ulmer Lyriksommers (www.ulmer-lyriksommer.de). \nIn der 1. Ulmer Lyriknacht wird DAS GEDICHT noch einmal großgeschrieben. Die drei renommierten Dichter*innen Monika Rinck\, Dinçer Güçyeter und Eva Christina Zeller lesen aus ihren Werken und diskutieren mit dem Publikum. Sie sprechen über ihr unermüdliches Sich-Fesseln-Lassen von verdichteten Sprachschichten: Wie prägt die Faszination für Dichtung ihren Alltag\, und was wiegt ein Tag in ihrem Wortekalender? Entsteht ein Gedicht aus der entfesselten Begeisterung für ein einzelnes Wort\, und wie kann ein größeres Bewusstsein für poetisches Denken vermittelt werden? Zwischen den Lesungen gibt es musikalische Einlagen neu komponierter Gedichtvertonungen mit Nicole Weiland (Sopran) und Marcus McLaren (Klavier). \nModerator/innen des Abends: Mikael Vogel (Berliner Lyriker) und Christine Langer (Ulmer Lyrikerin). \nFreier Eintritt! Die 1. Ulmer Lyriknacht wird von Kunstwerk e.V. in Kooperation mit dem Haus der Begegnung\, Ulm veranstaltet. Sie wird gefördert von der Baden-Württemberg Stiftung im Rahmen des Literatursommers\, der ThreeFourInnovations UG und Prof. Gerhard Mayer. Ferner wird die Lesung von Eva Christina Zeller im Rahmen des Programm 66 Lesungen im Land/Neustart Kultur vom Deutschen Literaturfonds und den Beauftragten der Bundesregierung für Kultur und Medien gefördert.
URL:https://lyrikhandlung.de/lyrikkalender-bw/1-ulmer-lyriknacht/
LOCATION:Haus der Begegnung\, Grüner Hof 7\, Ulm\, Baden-Würtemberg\, 89073\, Deutschland
ATTACH;FMTTYPE=image/jpeg:https://lyrikhandlung.de/wp-content/uploads/2022/10/10_14-Lyriknacht-1-e1665434042562.jpg
ORGANIZER;CN="Kunstwerk e.V.":MAILTO:projektleitung@ulmer-lyriksommer.de
END:VEVENT
BEGIN:VEVENT
DTSTART;TZID=Europe/Berlin:20221015T170000
DTEND;TZID=Europe/Berlin:20221015T170000
DTSTAMP:20260421T194903
CREATED:20221010T204031Z
LAST-MODIFIED:20221010T204117Z
UID:6413-1665853200-1665853200@lyrikhandlung.de
SUMMARY:Nancy Hünger BEST OFF - Nancy Hünger liest aus ihren bisher erschienenen Büchern
DESCRIPTION:Der Dichter Werner Söllner schreibt über Nancy Hüngers Lyrik: \n„Es sind wundersame und verwundete\, traurige und mutige\, verletzliche und lebensfrohe\, wie in bitterem Absinth getränkte und dennoch heitere\, manchmal geradezu verschmitzte Zeugnisse der Einsamkeit wie der Sehnsucht. Gedichte einer Autorin\, deren Stimme allmählich zu den bedeutendsten lyrischen Stimmen ihrer Generation in Deutschland gehört. Einer Stimme\, die wir brauchen\, weil sie uns sagen kann\, wie wir sind\, wenn wir nicht weiterwissen\, und die es uns so sagen kann\, dass wir es aushalten.“ \n  \nAus: L – Der Literaturbote \nZur Autorin: \nNancy Hünger\, 2018 Stadtschreiberin in Tübingen\, kehrt nach Tübingen zurück als Leiterin des Studio Literatur und Theater der Universität Tübingen. Dies\, aber nicht nur dies\, ist Anlass und Gelegenheit die Lyrikerin in einer Lesung\, die auch die Möglichkeit für ein Gespräch mit der Autorin bietet\, in der Lyrikhandlung kennenzulernen. \nDie 1981 in Weimar geborene Nancy Hünger legte 2006 mit dem Gedichtband »Aus blassen Fasern Wirklichkeit« ihr literarisches Debüt vor. 2009 folgte der Band »Deshalb die Vögel. Instabile Texte« mit Gedichten und poetischer Kurzprosa. Im März 2012 erschien ihr poetischer Prosaband „Halt dich fern“\, 2014 gefolgt von dem Band »Wir sind golden. Wir sind aus Blut«\, worin die Texte mitunter wie Gedichte erscheinen und in denen die Dichterin lediglich auf die Brechung in Verse verzichtet. Es folgte der Gedichtband „Ein wenig Musik zum Abschied wäre trotzdem nett“ 2017 und im Jahr 2020 das schmale Prosabändchen „4 Uhr kommt der Hund. Ein unglückliches Sprechen.“ \nNancy Hünger gehört zu den interessantesten Stimmen der deutschsprachigen Lyrik-Szene. Sie schreibt Gedichte und lyrische Prosa und führt dabei oft ganz unterschiedliche Kunstformen wie etwa Literatur\, Musik\, Bildende Kunst oder auch Tanz in den Dialog. Ein Schwerpunkt ihrer Gedichte sind zwischenmenschliche Beziehungen und die Liebe in all ihren Variationen. Liebe berührt dabei Geistiges wie Körperliches. Mit ihrer intensiven Arbeit an einer eigenen Formensprache zeigt sich Hünger auf der Höhe der deutschsprachigen Gegenwartslyrik.
URL:https://lyrikhandlung.de/lyrikkalender-bw/nancy-huenger-best-off-nancy-huenger-liest-aus-ihren-bisher-erschienenen-buechern/
LOCATION:Lyrikhandlung am Hölderlinturm\, Bursagasse 15\, Tübingen\, Baden-Württemberg\, 72070\, Deutschland
ORGANIZER;CN="Lyrikhandlung":MAILTO:info@lyrikhandlung.de
END:VEVENT
END:VCALENDAR