BEGIN:VCALENDAR
VERSION:2.0
PRODID:-//Lyrikhandlung am Hölderlinturm - ECPv6.15.20//NONSGML v1.0//EN
CALSCALE:GREGORIAN
METHOD:PUBLISH
X-WR-CALNAME:Lyrikhandlung am Hölderlinturm
X-ORIGINAL-URL:https://lyrikhandlung.de
X-WR-CALDESC:Veranstaltungen für Lyrikhandlung am Hölderlinturm
REFRESH-INTERVAL;VALUE=DURATION:PT1H
X-Robots-Tag:noindex
X-PUBLISHED-TTL:PT1H
BEGIN:VTIMEZONE
TZID:Europe/Berlin
BEGIN:DAYLIGHT
TZOFFSETFROM:+0100
TZOFFSETTO:+0200
TZNAME:CEST
DTSTART:20210328T010000
END:DAYLIGHT
BEGIN:STANDARD
TZOFFSETFROM:+0200
TZOFFSETTO:+0100
TZNAME:CET
DTSTART:20211031T010000
END:STANDARD
BEGIN:DAYLIGHT
TZOFFSETFROM:+0100
TZOFFSETTO:+0200
TZNAME:CEST
DTSTART:20220327T010000
END:DAYLIGHT
BEGIN:STANDARD
TZOFFSETFROM:+0200
TZOFFSETTO:+0100
TZNAME:CET
DTSTART:20221030T010000
END:STANDARD
BEGIN:DAYLIGHT
TZOFFSETFROM:+0100
TZOFFSETTO:+0200
TZNAME:CEST
DTSTART:20230326T010000
END:DAYLIGHT
BEGIN:STANDARD
TZOFFSETFROM:+0200
TZOFFSETTO:+0100
TZNAME:CET
DTSTART:20231029T010000
END:STANDARD
END:VTIMEZONE
BEGIN:VEVENT
DTSTART;TZID=Europe/Berlin:20220430T170000
DTEND;TZID=Europe/Berlin:20220430T170000
DTSTAMP:20260421T164809
CREATED:20220202T224253Z
LAST-MODIFIED:20220415T122440Z
UID:5165-1651338000-1651338000@lyrikhandlung.de
SUMMARY:Rolf Hermann:  In der Nahaufnahme verwildern wir Gedichte
DESCRIPTION:Sehr geehrte Damen und Herren\, liebe Lyrikfreundinnen und Lyrikfreunde\, \nendlich ist es wieder möglich\, Autorinnen und Autoren mit Leserinnen und Lesern zusammen zu bringen! Das nutzen wir aus! \nSo lade ich Sie sehr herzlich – eine Eröffnungsveranstaltung konnte coronabedingt nicht stattfinden – zu meiner allerersten Lesung in die seit März 2021eröffnete Lyrikhandlung am Hölderlinturm\, Bursagasse 15\, 72070 Tübingen\, ein: \n\nam Samstag\, den 30. April um 17.00 Uhr\, Bursagasse 15\, 72070 Tübingen\nEintritt: 10 Euro (für Lesung\, Brot und Wein)\, ermässigt 5 Euro \nbegrenzte Teilnehmerzahl. \nVerbindliche Anmeldung bis zum 15. April 2022. Sie können sich telefonisch unter 07071-5667171\,  per mail unter info@lyrikhandlung anmelden oder am Einfachsten per Anmeldeformular. \nRolf Hermann wird am Ende der Lesung gerne signieren. \n  \nZum Buch: \nEin rauschhaftes\, urbanes Langgedicht\, in dem die Ampeln sinnentleert blinken und die Zufallsbegegnung mit einem Tier die Hoffnung auf eine Verschmelzung von Mensch und Natur nährt. Ein Bildschirm\, der glimmt\, ein Fenster\, das aufpoppt – und die Zeilen werden zu einem Eintrittsort\, zu einer Schnittstelle zwischen Virtualität und unmittelbarer Erfahrung. Anderswo schleudern Neophyten ihre Samenkugeln durch die Luft und breiten sich rasend schnell aus: ein brasilianisches Tausendblatt\, ein Götterbaum\, ein Schmetterlingsstrauch. Und schliesslich ein Gang durch einen längst verschwundenen Obstgarten\, in dem selbst die Luftpartikel träge geworden sind ob ihres uralten Gewichts.\nAusgehend von vier Zyklen\, die Rainer Maria Rilke am Ende seines Lebens im Château Muzot im Wallis auf Französisch geschrieben hat\, zoomt Rolf Hermann mit seinen neuen Gedichten mitten hinein in unsere Lebenswelt mit ihren globalen Verflechtungen\, ihren Hotspots und Flächenbränden\, ihren Erschöpfungszuständen. Lustvoll und zärtlich\, formbewusst und unverwechselbar im Ton. \n  \nZum Autor:  \nGeboren 1973 in Leuk\, lebt heute als freier Schriftsteller in Biel/Bienne. Sein Studium verdiente er sich als Schafhirt im Simplongebiet. Er ist Mitglied der Mundart-Combo Die Gebirgspoeten und der Spoken-Rock-Formation Trio Chäslädeli. Sein Schaffen wurde verschiedentlich ausgezeichnet\, zuletzt mit dem Kulturpreis der Stadt Biel (2017) und einem Literaturpreis des Kantons Bern (2019). 2010 war Rolf Hermann Stadtschreiberstipendiat in Tübingen. \nWir bedanken uns bei der Pro Helvetia\, Schweizer Kulturstiftung für die Unterstützung!
URL:https://lyrikhandlung.de/lyrikkalender-bw/rolf-hermann-in-der-nahaufnahme-verwildern-wir-gedichte/
LOCATION:Lyrikhandlung am Hölderlinturm\, Bursagasse 15\, Tübingen\, Baden-Württemberg\, 72070\, Deutschland
ATTACH;FMTTYPE=image/jpeg:https://lyrikhandlung.de/wp-content/uploads/2022/02/Hermann_Nahaufnahme_Cover-Ue-e1643900793561.jpg
ORGANIZER;CN="Lyrikhandlung":MAILTO:info@lyrikhandlung.de
END:VEVENT
END:VCALENDAR