BEGIN:VCALENDAR
VERSION:2.0
PRODID:-//Lyrikhandlung am Hölderlinturm - ECPv6.15.20//NONSGML v1.0//EN
CALSCALE:GREGORIAN
METHOD:PUBLISH
X-WR-CALNAME:Lyrikhandlung am Hölderlinturm
X-ORIGINAL-URL:https://lyrikhandlung.de
X-WR-CALDESC:Veranstaltungen für Lyrikhandlung am Hölderlinturm
REFRESH-INTERVAL;VALUE=DURATION:PT1H
X-Robots-Tag:noindex
X-PUBLISHED-TTL:PT1H
BEGIN:VTIMEZONE
TZID:Europe/Berlin
BEGIN:DAYLIGHT
TZOFFSETFROM:+0100
TZOFFSETTO:+0200
TZNAME:CEST
DTSTART:20210328T010000
END:DAYLIGHT
BEGIN:STANDARD
TZOFFSETFROM:+0200
TZOFFSETTO:+0100
TZNAME:CET
DTSTART:20211031T010000
END:STANDARD
BEGIN:DAYLIGHT
TZOFFSETFROM:+0100
TZOFFSETTO:+0200
TZNAME:CEST
DTSTART:20220327T010000
END:DAYLIGHT
BEGIN:STANDARD
TZOFFSETFROM:+0200
TZOFFSETTO:+0100
TZNAME:CET
DTSTART:20221030T010000
END:STANDARD
BEGIN:DAYLIGHT
TZOFFSETFROM:+0100
TZOFFSETTO:+0200
TZNAME:CEST
DTSTART:20230326T010000
END:DAYLIGHT
BEGIN:STANDARD
TZOFFSETFROM:+0200
TZOFFSETTO:+0100
TZNAME:CET
DTSTART:20231029T010000
END:STANDARD
END:VTIMEZONE
BEGIN:VEVENT
DTSTART;TZID=Europe/Berlin:20220929T193000
DTEND;TZID=Europe/Berlin:20220929T210000
DTSTAMP:20260421T200934
CREATED:20220921T094848Z
LAST-MODIFIED:20220921T095336Z
UID:6303-1664479800-1664485200@lyrikhandlung.de
SUMMARY:SOMMERGESPRÄCHE: Lyrik meets Tango mit Bernd Storz und Andreas Eisenhardt
DESCRIPTION:Zum Ausklang des Sommers laden wir zu einer besonders reizvollen Veranstaltung ein: Die Lyrik des Reutlinger Autors Bernd Storz trifft auf Tango\, den der ebenfalls aus Reutlingen stammenden Andreas Eisenhardt gekonnt seinem Akkordeon entlockt. \nBernd Storz ist Leserinnen und -Lesern bereits bekannt durch seine Regionalkrimis wie zum Beispiel „Mord im Outlet“ oder „Die Wespe“. Vierzig Jahre schreibt er schon (auch) Gedichte\, veröffentlicht in Anthologien\, Zeitschriften und kleinen bibliophilen Ausgaben. Dieser jetzt von ihm selbst komponierte Band „Sommergespräche“ sammelt eine Auswahl »Gedichte mit Bestand« wieder ein – und bringt sie gleichsam als Essenz seiner Dichterexistenz aufs Neue heraus. Einige dieser Gedichte wird Storz an diesem Abend vortragen. Die argentinischen Tangos\, unter anderem von Astor Piazolla\, ergänzen die Lesung\, und versprechen einen interessanten und spannungsreichen Abend. \nDer Eintritt ist frei\, da sie im Rahmen der Regionalbuchtage 2022 stattfindet und vom Börsenverein des Deutschen Buchhandels und dem Bundesministerium des Innern für Bau und Heimat gefördert wird. \n 
URL:https://lyrikhandlung.de/lyrikkalender-bw/sommergespraeche-lyrik-meets-tango-mit-bernd-storz-und-andreas-eisenhardt/
LOCATION:Buchhandlung am Markt\, Lange Straße 2\, Bad Urach\, Baden-Würtemberg\, 72574\, Deutschland
ATTACH;FMTTYPE=image/jpeg:https://lyrikhandlung.de/wp-content/uploads/2022/09/SommergespraecheCover.jpg
ORGANIZER;CN="Buchhandlung am Markt":MAILTO:buecher-am-markt@gmx.de
END:VEVENT
END:VCALENDAR