BEGIN:VCALENDAR
VERSION:2.0
PRODID:-//Lyrikhandlung am Hölderlinturm - ECPv6.15.20//NONSGML v1.0//EN
CALSCALE:GREGORIAN
METHOD:PUBLISH
X-WR-CALNAME:Lyrikhandlung am Hölderlinturm
X-ORIGINAL-URL:https://lyrikhandlung.de
X-WR-CALDESC:Veranstaltungen für Lyrikhandlung am Hölderlinturm
REFRESH-INTERVAL;VALUE=DURATION:PT1H
X-Robots-Tag:noindex
X-PUBLISHED-TTL:PT1H
BEGIN:VTIMEZONE
TZID:Europe/Berlin
BEGIN:DAYLIGHT
TZOFFSETFROM:+0100
TZOFFSETTO:+0200
TZNAME:CEST
DTSTART:20210328T010000
END:DAYLIGHT
BEGIN:STANDARD
TZOFFSETFROM:+0200
TZOFFSETTO:+0100
TZNAME:CET
DTSTART:20211031T010000
END:STANDARD
BEGIN:DAYLIGHT
TZOFFSETFROM:+0100
TZOFFSETTO:+0200
TZNAME:CEST
DTSTART:20220327T010000
END:DAYLIGHT
BEGIN:STANDARD
TZOFFSETFROM:+0200
TZOFFSETTO:+0100
TZNAME:CET
DTSTART:20221030T010000
END:STANDARD
BEGIN:DAYLIGHT
TZOFFSETFROM:+0100
TZOFFSETTO:+0200
TZNAME:CEST
DTSTART:20230326T010000
END:DAYLIGHT
BEGIN:STANDARD
TZOFFSETFROM:+0200
TZOFFSETTO:+0100
TZNAME:CET
DTSTART:20231029T010000
END:STANDARD
END:VTIMEZONE
BEGIN:VEVENT
DTSTART;TZID=Europe/Berlin:20220908T100000
DTEND;TZID=Europe/Berlin:20220908T100000
DTSTAMP:20260421T212131
CREATED:20220404T135753Z
LAST-MODIFIED:20220404T135753Z
UID:5597-1662631200-1662631200@lyrikhandlung.de
SUMMARY:Workshop Maske auf für den Rollentausch
DESCRIPTION:In seiner Zeit im Tübinger Turm hat sich der Dichter Friedrich Hölderlin einen neuen Namen gegeben. Er wollte nicht mehr Hölderlin heißen. Er wollte „Scardanelli“ genannt werden. Und siehe da: Mit dem neuen Namen verändern sich auf einmal auch seine Gedichte und seine Ausdrucksweise.\nIn dem Ferien-Workshop mit der Künstlerin Anett Frey und der Theaterpädagogin Elif Emir wollen wir mit euch ausprobieren\, wie es sich anfühlt\, in fremde Rollen zu schlüpfen. Es werden Masken aus Gips erstellt\, bemalt und anprobiert. Dazu entstehen Steckbriefe\, Porträts und Texte aus verschiedenen Perspektiven. \nMaximal 10 Teilnehmer*innen\nKursleitung: Anett Frey\, Elif Demir\nKosten: 45 Euro pro Teilnehmer*in\nAlter: 9– 14 Jahre\nVeranstaltungsort: Museum Hölderlinturm\, Bursagasse 10\, 72070 Tübingen \nBenötigtes Material:\nGips\nFarben und Pinsel zum Bemalen\nSchreib- und Zeichen-Materialien
URL:https://lyrikhandlung.de/lyrikkalender-bw/workshop-maske-auf-fuer-den-rollentausch-2/
LOCATION:Hölderlinturm Tübingen\, Bursagasse 6\, Tübingen\, 72070\, Deutschland
END:VEVENT
END:VCALENDAR