BEGIN:VCALENDAR
VERSION:2.0
PRODID:-//Lyrikhandlung am Hölderlinturm - ECPv6.15.20//NONSGML v1.0//EN
CALSCALE:GREGORIAN
METHOD:PUBLISH
X-WR-CALNAME:Lyrikhandlung am Hölderlinturm
X-ORIGINAL-URL:https://lyrikhandlung.de
X-WR-CALDESC:Veranstaltungen für Lyrikhandlung am Hölderlinturm
REFRESH-INTERVAL;VALUE=DURATION:PT1H
X-Robots-Tag:noindex
X-PUBLISHED-TTL:PT1H
BEGIN:VTIMEZONE
TZID:Europe/Berlin
BEGIN:DAYLIGHT
TZOFFSETFROM:+0100
TZOFFSETTO:+0200
TZNAME:CEST
DTSTART:20210328T010000
END:DAYLIGHT
BEGIN:STANDARD
TZOFFSETFROM:+0200
TZOFFSETTO:+0100
TZNAME:CET
DTSTART:20211031T010000
END:STANDARD
BEGIN:DAYLIGHT
TZOFFSETFROM:+0100
TZOFFSETTO:+0200
TZNAME:CEST
DTSTART:20220327T010000
END:DAYLIGHT
BEGIN:STANDARD
TZOFFSETFROM:+0200
TZOFFSETTO:+0100
TZNAME:CET
DTSTART:20221030T010000
END:STANDARD
BEGIN:DAYLIGHT
TZOFFSETFROM:+0100
TZOFFSETTO:+0200
TZNAME:CEST
DTSTART:20230326T010000
END:DAYLIGHT
BEGIN:STANDARD
TZOFFSETFROM:+0200
TZOFFSETTO:+0100
TZNAME:CET
DTSTART:20231029T010000
END:STANDARD
END:VTIMEZONE
BEGIN:VEVENT
DTSTART;TZID=Europe/Berlin:20220716T170000
DTEND;TZID=Europe/Berlin:20220716T170000
DTSTAMP:20260421T164641
CREATED:20220622T081520Z
LAST-MODIFIED:20220701T150919Z
UID:5992-1657990800-1657990800@lyrikhandlung.de
SUMMARY:Buchpräsentation - Lesung mit der Poetin Mihaela Claudia Condrat
DESCRIPTION:Mihaela Claudia Condrat: alleine durch die wörter \nEintritt: 10 Euro (für Lesung\, Brot und Wein)\, ermäßigt 5 Euro\nModeration und Gespräch: Eva Christina Zeller \nMihaela Claudia Condrat wird am Ende der Lesung gerne signieren. \n\n\n\n\n\n\n\n\n\n\n\n\n\n\n\n\n\n\n\n\n\n\n\n\n\n\n\n\n\nZum Buch:\nAlleine – alle/eine – durch die Wörter: Es ist auch diese Lesart\, eine sich ihr geradezu aufdrängende Vielseitigkeit der Sprache(n)\, die Mihaela Claudia Condrats Gedichte ausmacht. In ihren Auseinandersetzungen mit Herkunft\, Kindheit\, Emigration\, dem Gestern und dem Morgen\, in ihren Liebesgedanken ebenso wie im Gespräch mit Clowns und Surrealisten beherrscht sie hellwach träumend die Hexe Sprache\, artikuliert in vielen Sprachen\, um ihre eigene nicht zu verlieren – und sie findet eine neue Sprache gar. \nZur Autorin:\nMihaela Claudia Condrat in Bilbor/Transsilvanien/ Rumänien geborene Poetin\, wohnhaft in Tübingen. Studium der Theologie\, Philologie und Pädagogik in Hermannstadt und Tübingen. Während des Gymnasiums beginnt sie Gedichte zu schreiben und zu performen\, zudem verfasste sie Stücke und Songstexte für Schulaufführungen. Gestaltung von Poetry Performances (u.a. De Paradiso: Ephräm der Syrer im Dialog mit Dante\, Klänge aus Bukowina: über Paul Celans Frühwerk)\, Übersetzung deutscher Dichterinnen und Dichter u.a. Hilde Domin\, Rose Ausländer\, Ingeborg Bachmann\, Paul Celan\, Erich Fried ins Rumänische. Gedichtbände: distopia\, Limes Verlag 2014 Klausenburg (rumänisch)\, alleine durch die wörter\, Schiler & Mücke Verlag 2022 Tübingen-Berlin (deutsch). Bei dem Projekt wort und farbe initiiert sie gemeinsam mit dem Publikum eine interaktive Performance aus Wort\, Farbe und traditioneller-experimenteller Musik. www.poeziedemama.com \nMihaela Claudia Condrat:\nalleine durch die wörter\, Schiler & Mücke\, 2022
URL:https://lyrikhandlung.de/lyrikkalender-bw/buchpraesentation-lesung-mit-der-poetin-mihaela-claudia-condrat/
LOCATION:Lyrikhandlung am Hölderlinturm\, Bursagasse 15\, Tübingen\, Baden-Württemberg\, 72070\, Deutschland
CATEGORIES:Lesung
ATTACH;FMTTYPE=image/jpeg:https://lyrikhandlung.de/wp-content/uploads/2022/07/cover_condrat-e1656688143401.jpg
ORGANIZER;CN="Lyrikhandlung":MAILTO:info@lyrikhandlung.de
END:VEVENT
END:VCALENDAR