BEGIN:VCALENDAR
VERSION:2.0
PRODID:-//Lyrikhandlung am Hölderlinturm - ECPv6.15.20//NONSGML v1.0//EN
CALSCALE:GREGORIAN
METHOD:PUBLISH
X-ORIGINAL-URL:https://lyrikhandlung.de
X-WR-CALDESC:Veranstaltungen für Lyrikhandlung am Hölderlinturm
REFRESH-INTERVAL;VALUE=DURATION:PT1H
X-Robots-Tag:noindex
X-PUBLISHED-TTL:PT1H
BEGIN:VTIMEZONE
TZID:Europe/Berlin
BEGIN:DAYLIGHT
TZOFFSETFROM:+0100
TZOFFSETTO:+0200
TZNAME:CEST
DTSTART:20210328T010000
END:DAYLIGHT
BEGIN:STANDARD
TZOFFSETFROM:+0200
TZOFFSETTO:+0100
TZNAME:CET
DTSTART:20211031T010000
END:STANDARD
BEGIN:DAYLIGHT
TZOFFSETFROM:+0100
TZOFFSETTO:+0200
TZNAME:CEST
DTSTART:20220327T010000
END:DAYLIGHT
BEGIN:STANDARD
TZOFFSETFROM:+0200
TZOFFSETTO:+0100
TZNAME:CET
DTSTART:20221030T010000
END:STANDARD
BEGIN:DAYLIGHT
TZOFFSETFROM:+0100
TZOFFSETTO:+0200
TZNAME:CEST
DTSTART:20230326T010000
END:DAYLIGHT
BEGIN:STANDARD
TZOFFSETFROM:+0200
TZOFFSETTO:+0100
TZNAME:CET
DTSTART:20231029T010000
END:STANDARD
END:VTIMEZONE
BEGIN:VEVENT
DTSTART;TZID=Europe/Berlin:20220715T140000
DTEND;TZID=Europe/Berlin:20220715T170000
DTSTAMP:20260421T165055
CREATED:20220701T152605Z
LAST-MODIFIED:20220701T155442Z
UID:6088-1657893600-1657904400@lyrikhandlung.de
SUMMARY:Ulmer Lyriksommer 2022:  Neue Schläuche - Warum Gedichte nicht verstaubt sind. Gedichteworkshop mit Carolin Callies
DESCRIPTION:Gedichte klingen\, Gedichte schauen uns an\, Gedichte nehmen Verbindungen auf – zu allen anderen Künsten und zu uns als Leser*in. Jeden unserer Sinne sprechen sie an\, fordern sie heraus\, locken sie dorthin\, wo man noch nicht nachgeschaut hat. Wovon können wir uns beim Schreiben inspirieren lassen? Was sind neue Impulse\, die dem Wort die Feder führen? Wie uns immer neu ausprobieren – in Form und im Sound? Wie eine Sprache finden für das\, was uns umtreibt? Das will die Lyrikerin Carolin Callies gemeinsam mit den Teilnehmenden in diesem Gedichteworkshop ausprobieren – in kurzen Schreibübungen und im Miteinandersprechen über die entstandenen Texte. \nKostenlose Teilnahme nach vorangehender Anmeldung per E-Mail (wandelmut[AT]ulmer-lyriksommer.de). \nDie Lyrikerin Carolin Callies\, die auch als Literaturvermittlerin tätig ist\, wurde u.a. ausgezeichnet mit dem Gerlinger Lyrikpreis und dem Thaddäus-Troll-Preis. Ihr neuester Gedichtband schatullen & bredouillen (Verlag Schöffling & Co) wurde von der Presse gefeiert: „Eine Wunderkammer der Worte“\, lobt SWR2. „Poesie ohne Rücksicht auf Konvention“\, schreibt das Luxemburger Tagblatt. „Radikale Ehrlichkeit in jedem Vers“\, sieht die Neue Zürcher Zeitung. \nDer Gedichteworkshop wird von der Baden-Württemberg Stiftung im Rahmen des Literatursommers (literatursommer.de) sowie von der Stiftung Kultur & Bildung der Stadt Ulm gefördert. Ulm verwandelt den Literatursommer Baden-Württemberg in den Ulmer Lyriksommer (www.ulmer-lyriksommer.de)\, der von Kunstwerk e.V. unter der künstlerischen Leitung der Ulmer Lyrikerin Christine Langer veranstaltet wird.
URL:https://lyrikhandlung.de/lyrikkalender-bw/ulmer-lyriksommer-2022-neue-schlaeuche-warum-gedichte-nicht-verstaubt-sind-gedichteworkshop-mit-carolin-callies/
LOCATION:Haus der Begegnung\, Grüner Hof 7\, Ulm\, Baden-Würtemberg\, 89073\, Deutschland
ATTACH;FMTTYPE=image/jpeg:https://lyrikhandlung.de/wp-content/uploads/2022/07/7_15-Neue-Schlaeuche-e1656689153743.jpg
ORGANIZER;CN="Kunstwerk e.V.":MAILTO:projektleitung@ulmer-lyriksommer.de
END:VEVENT
END:VCALENDAR