BEGIN:VCALENDAR
VERSION:2.0
PRODID:-//Lyrikhandlung am Hölderlinturm - ECPv6.15.20//NONSGML v1.0//EN
CALSCALE:GREGORIAN
METHOD:PUBLISH
X-ORIGINAL-URL:https://lyrikhandlung.de
X-WR-CALDESC:Veranstaltungen für Lyrikhandlung am Hölderlinturm
REFRESH-INTERVAL;VALUE=DURATION:PT1H
X-Robots-Tag:noindex
X-PUBLISHED-TTL:PT1H
BEGIN:VTIMEZONE
TZID:Europe/Berlin
BEGIN:DAYLIGHT
TZOFFSETFROM:+0100
TZOFFSETTO:+0200
TZNAME:CEST
DTSTART:20210328T010000
END:DAYLIGHT
BEGIN:STANDARD
TZOFFSETFROM:+0200
TZOFFSETTO:+0100
TZNAME:CET
DTSTART:20211031T010000
END:STANDARD
BEGIN:DAYLIGHT
TZOFFSETFROM:+0100
TZOFFSETTO:+0200
TZNAME:CEST
DTSTART:20220327T010000
END:DAYLIGHT
BEGIN:STANDARD
TZOFFSETFROM:+0200
TZOFFSETTO:+0100
TZNAME:CET
DTSTART:20221030T010000
END:STANDARD
BEGIN:DAYLIGHT
TZOFFSETFROM:+0100
TZOFFSETTO:+0200
TZNAME:CEST
DTSTART:20230326T010000
END:DAYLIGHT
BEGIN:STANDARD
TZOFFSETFROM:+0200
TZOFFSETTO:+0100
TZNAME:CET
DTSTART:20231029T010000
END:STANDARD
END:VTIMEZONE
BEGIN:VEVENT
DTSTART;TZID=Europe/Berlin:20220515T110000
DTEND;TZID=Europe/Berlin:20220515T160000
DTSTAMP:20260421T165242
CREATED:20220404T133622Z
LAST-MODIFIED:20220404T134736Z
UID:5586-1652612400-1652630400@lyrikhandlung.de
SUMMARY:Hölderlins Orte – Ausstellungsfinissage zum Internationaler Museumstag 2022
DESCRIPTION:Den Abschluss der Wanderausstellung ›Hölderlins Orte – Fotografien von Barbara Klemm‹ feiern wir am Internationalen Museumstag mit einem abwechslungsreichen Programm aus dialogischen Führungen mit der Museumsleiterin Dr. Sandra Potsch und der Schauspielerin Hannah Jaitner vom Tübinger Landestheater und einer Mitmach-Aktion\, die auch junge Museumsbesucher*innen zur Gestaltung eigener Landschaftsbilder und Material-Collagen einlädt.\nDazu stellen die Autorin Stephanie Jaeckel und der Künstler Via Lewandowsky in einer Gartenlesung einen Brief von Friedrich Hölderlin an seine Schwester aus dem schweizerischen Hauptwil vor\, der in der Reihe ›Aus dem Archiv geholt‹ an diesem Tag noch ein letztes Mal im Original zu sehen ist. \n11:00-16:00 Uhr: Landschaftsbilder aus Material-Collagen – Offener Workshop im Turmgarten \n11:30 Uhr: »Theure Schwester!« – Hölderlins Brief aus Hauptwil\nLesung und Objektvorstellung mit Stephanie Jaeckel und Via Lewandowsky \n13:30 Uhr: ›Hölderlins Orte‹\nFührung durch die Ausstellung mit Kuratorin Dr. Sandra Potsch und Hannah Jaitner\, Sprecherin und Schauspielerin am LTT \n15:30 Uhr: ›Hölderlins Orte‹\nFührung durch die Ausstellung mit Kuratorin Dr. Sandra Potsch und Hannah Jaitner\, Sprecherin und Schauspielerin am LTT
URL:https://lyrikhandlung.de/lyrikkalender-bw/hoelderlins-orte-ausstellungsfinissage-zum-internationaler-museumstag-2022/
LOCATION:Hölderlinturm Tübingen\, Bursagasse 6\, Tübingen\, 72070\, Deutschland
END:VEVENT
END:VCALENDAR