BEGIN:VCALENDAR
VERSION:2.0
PRODID:-//Lyrikhandlung am Hölderlinturm - ECPv6.15.20//NONSGML v1.0//EN
CALSCALE:GREGORIAN
METHOD:PUBLISH
X-WR-CALNAME:Lyrikhandlung am Hölderlinturm
X-ORIGINAL-URL:https://lyrikhandlung.de
X-WR-CALDESC:Veranstaltungen für Lyrikhandlung am Hölderlinturm
REFRESH-INTERVAL;VALUE=DURATION:PT1H
X-Robots-Tag:noindex
X-PUBLISHED-TTL:PT1H
BEGIN:VTIMEZONE
TZID:Europe/Berlin
BEGIN:DAYLIGHT
TZOFFSETFROM:+0100
TZOFFSETTO:+0200
TZNAME:CEST
DTSTART:20210328T010000
END:DAYLIGHT
BEGIN:STANDARD
TZOFFSETFROM:+0200
TZOFFSETTO:+0100
TZNAME:CET
DTSTART:20211031T010000
END:STANDARD
BEGIN:DAYLIGHT
TZOFFSETFROM:+0100
TZOFFSETTO:+0200
TZNAME:CEST
DTSTART:20220327T010000
END:DAYLIGHT
BEGIN:STANDARD
TZOFFSETFROM:+0200
TZOFFSETTO:+0100
TZNAME:CET
DTSTART:20221030T010000
END:STANDARD
BEGIN:DAYLIGHT
TZOFFSETFROM:+0100
TZOFFSETTO:+0200
TZNAME:CEST
DTSTART:20230326T010000
END:DAYLIGHT
BEGIN:STANDARD
TZOFFSETFROM:+0200
TZOFFSETTO:+0100
TZNAME:CET
DTSTART:20231029T010000
END:STANDARD
END:VTIMEZONE
BEGIN:VEVENT
DTSTART;TZID=Europe/Berlin:20220507T190000
DTEND;TZID=Europe/Berlin:20220507T190000
DTSTAMP:20260421T164641
CREATED:20220118T200022Z
LAST-MODIFIED:20220118T200104Z
UID:4963-1651950000-1651950000@lyrikhandlung.de
SUMMARY:Nichts\, nur - Lesung mit Walle Sayer im Rahmen der Tübinger Kulturnacht
DESCRIPTION:Gegenden\, Landschaften\, Orte\, ein Figurenkabinett\, die Herkunft\, der Historienhauch\, das Antlitz der Dinge\, Wortfährten\, Alltagsbühnen … »Nichts\, nur« versammelt Gedichte\, Prosagedichte und Erzählminiaturen von Walle Sayer aus 35 Jahren\, von denen er einige vortragen wird. \nWalle Sayer lebt mit seiner Familie in Horb und schreibt Gedichte und Prosa. Er erhielt zahlreiche Auszeichnungen und Stipendien\, u. a. den Thaddäus-Troll-Preis\, den Förderpreis zum Hölderlinpreis\, das Hermann-Lenz-Stipendium\, den Berthold-Auerbach-Preis\, die Staufermedaille des Landes Baden-Württemberg\, den Ludwig-Uhland-Förderpreis\, das Spreewald Literaturstipendium\, den Basler Lyrikpreis fürs bisherige Gesamtwerk sowie den Gerlinger Lyrikpreis. Er ist Mitglied im deutschen PEN. \nUnter www.kroener-verlag.de/suche/?keywords=walle+sayer finden Sie weitere Informationen zu Autor und Buch.
URL:https://lyrikhandlung.de/lyrikkalender-bw/nichts-nur-lesung-mit-walle-sayer-im-rahmen-der-tuebinger-kulturnacht/
LOCATION:Buchhandlung Rosa Lux\, Lange Gasse 27\, Tübingen\, Baden-Württemberg\, 72070\, Deutschland
ATTACH;FMTTYPE=image/jpeg:https://lyrikhandlung.de/wp-content/uploads/2021/11/Cover-k-Nichtsnur-185x300-1.jpg
ORGANIZER;CN="Buchhandlung Rosa Lux":MAILTO:info@rosa-lux.de
END:VEVENT
BEGIN:VEVENT
DTSTART;TZID=Europe/Berlin:20220507T190000
DTEND;TZID=Europe/Berlin:20220507T190000
DTSTAMP:20260421T164641
CREATED:20220404T133457Z
LAST-MODIFIED:20220408T102112Z
UID:5584-1651950000-1651950000@lyrikhandlung.de
SUMMARY:Kulturnacht Hineingeschmeckt: Die Kulturnacht im Hölderlinturm
DESCRIPTION:Wie schmecken Hölderlins Gedichte? Bei halbstündigen Lesungen im Freien werden sie mit dazu passendem Quitten-Brand aus dem Tübinger Turmgarten sowie Hölderlin-Wein und -Gin aus der Geburtsstadt Lauffen am Neckar gekostet. Edelbrand-Sommelière Angela V. Weis und Klaus-Peter Waldenberger\, Vizepräsident der Hölderlin-Gesellschaft und Bürgermeister der Stadt Lauffen\, reichen die Gläser und stellen die dafür verwendeten Zutaten vor. Justin Hibbeler und Insa Jebens vom Tübinger Landestheater lesen darauf abgestimmte Gedichte von Hölderlin. Dazu gibt es Schnupper-Führungen durch die Sonderausstellung ›Hölderlins Orte – Fotografien von Barbara Klemm‹ im Hölderlinturm. \n19 Uhr ›Hölderlins Orte – Fotografien von Barbara Klemm‹\nSchnupperführung durch die Sonderausstellung mit Andrea Bachmann \n20 Uhr Gartenlesung mit Hölderlin-Wein und –Gin aus Lauffen am Neckar\nmit Justin Hibbeler und Insa Jebens\, Schauspieler*innen am LTT Tübingen\,\nund Klaus-Peter Waldenberger\, Vizepräsident der Hölderlin-Gesellschaft und Bürgermeister der Stadt Lauffen \n20:30 Uhr ›Hölderlins Orte – Fotografien von Barbara Klemm‹\nSchnupperführung durch die Sonderausstellung mit Andrea Bachmann \n21 Uhr Gartenlesung mit Quitten-Brand aus dem Hölderlinturm-Garten\nmit Justin Hibbeler und Insa Jebens\, Schauspieler*innen am LTT Tübingen\,\nund Edelbrand-Sommelière Angela V. Weis\nBegrüßung: Dr. Daniela Harsch\, Bürgermeisterin \n21:45 Uhr Gartenlesung mit Hölderlin-Wein und –Gin aus Lauffen am Neckar\nmit Justin Hibbeler und Insa Jebens\, Schauspieler*innen am LTT Tübingen\,\nund Klaus-Peter Waldenberger\, Vizepräsident der Hölderlin-Gesellschaft und Bürgermeister der Stadt Lauffen\nBegrüßung: Dr. Daniela Harsch\, Bürgermeisterin \n22:30 Uhr Gartenlesung mit Quitten-Brand aus dem Hölderlinturm-Garten\nmit Justin Hibbeler und Insa Jebens\, Schauspieler*innen am LTT Tübingen\,\nund Edelbrand-Sommelière Angela V. Weis \nFür die Teilnahme benötigen Sie ein Kulturnachts-Ticket. Dieses erhalten Sie im Vorverkauf oder an der Abendkasse vor Ort. Es kostet regulär 14 Euro und ermäßigt 9 Euro.
URL:https://lyrikhandlung.de/lyrikkalender-bw/kulturnacht-hineingeschmeckt-die-kulturnacht-im-hoelderlinturm/
LOCATION:Hölderlinturm Tübingen\, Bursagasse 6\, Tübingen\, 72070\, Deutschland
END:VEVENT
END:VCALENDAR