BEGIN:VCALENDAR
VERSION:2.0
PRODID:-//Lyrikhandlung am Hölderlinturm - ECPv6.15.20//NONSGML v1.0//EN
CALSCALE:GREGORIAN
METHOD:PUBLISH
X-WR-CALNAME:Lyrikhandlung am Hölderlinturm
X-ORIGINAL-URL:https://lyrikhandlung.de
X-WR-CALDESC:Veranstaltungen für Lyrikhandlung am Hölderlinturm
REFRESH-INTERVAL;VALUE=DURATION:PT1H
X-Robots-Tag:noindex
X-PUBLISHED-TTL:PT1H
BEGIN:VTIMEZONE
TZID:Europe/Berlin
BEGIN:DAYLIGHT
TZOFFSETFROM:+0100
TZOFFSETTO:+0200
TZNAME:CEST
DTSTART:20210328T010000
END:DAYLIGHT
BEGIN:STANDARD
TZOFFSETFROM:+0200
TZOFFSETTO:+0100
TZNAME:CET
DTSTART:20211031T010000
END:STANDARD
BEGIN:DAYLIGHT
TZOFFSETFROM:+0100
TZOFFSETTO:+0200
TZNAME:CEST
DTSTART:20220327T010000
END:DAYLIGHT
BEGIN:STANDARD
TZOFFSETFROM:+0200
TZOFFSETTO:+0100
TZNAME:CET
DTSTART:20221030T010000
END:STANDARD
BEGIN:DAYLIGHT
TZOFFSETFROM:+0100
TZOFFSETTO:+0200
TZNAME:CEST
DTSTART:20230326T010000
END:DAYLIGHT
BEGIN:STANDARD
TZOFFSETFROM:+0200
TZOFFSETTO:+0100
TZNAME:CET
DTSTART:20231029T010000
END:STANDARD
END:VTIMEZONE
BEGIN:VEVENT
DTSTART;TZID=Europe/Berlin:20220123T160000
DTEND;TZID=Europe/Berlin:20220123T160000
DTSTAMP:20260422T001645
CREATED:20220107T144741Z
LAST-MODIFIED:20220107T152113Z
UID:4565-1642953600-1642953600@lyrikhandlung.de
SUMMARY:Taucherglocke
DESCRIPTION:Taucherglocke\n\n23. Januar um 16:00\n\n\n\nEine spannende und unterhaltsame Reise durch Schillers Lyrik präsentiert das Ensemble des theater am puls mit toller Live-Musik. Mit Schillers »Taucher” stürzen sich die Schauspieler des tap hinein in die Tiefen der Lyrik des fantastischen Autors Schiller. In szenischen Lesungen werden die bekannten Gedichte und Balladen des Alt-Meisters zum Leben erweckt. Entdecken sie mit uns neue Seiten der alten Klassiker und lassen Sie sich entführen in die wunderbare Welt der Sprache. Viel Bekanntes und Vertrautes wird ihnen begegnen\, aber sicherlich auch Neues. \nErst wenn die Glocke zum letzten Geläut anschwillt\, taucht der Abend wieder auf und unter Ihnen liegt ein Reich der Worte\, das sicherlich noch seine Nachwirkungen haben wird. \n»Ernst ist das leben\, heiter ist die Kunst”.
URL:https://lyrikhandlung.de/lyrikkalender-bw/taucherglocke/
LOCATION:Theather am Puls\, Marstallstraße 51\, Schwetzingen\, 68723\, Deutschland
END:VEVENT
END:VCALENDAR