BEGIN:VCALENDAR
VERSION:2.0
PRODID:-//Lyrikhandlung am Hölderlinturm - ECPv6.15.20//NONSGML v1.0//EN
CALSCALE:GREGORIAN
METHOD:PUBLISH
X-WR-CALNAME:Lyrikhandlung am Hölderlinturm
X-ORIGINAL-URL:https://lyrikhandlung.de
X-WR-CALDESC:Veranstaltungen für Lyrikhandlung am Hölderlinturm
REFRESH-INTERVAL;VALUE=DURATION:PT1H
X-Robots-Tag:noindex
X-PUBLISHED-TTL:PT1H
BEGIN:VTIMEZONE
TZID:Europe/Berlin
BEGIN:DAYLIGHT
TZOFFSETFROM:+0100
TZOFFSETTO:+0200
TZNAME:CEST
DTSTART:20200329T010000
END:DAYLIGHT
BEGIN:STANDARD
TZOFFSETFROM:+0200
TZOFFSETTO:+0100
TZNAME:CET
DTSTART:20201025T010000
END:STANDARD
BEGIN:DAYLIGHT
TZOFFSETFROM:+0100
TZOFFSETTO:+0200
TZNAME:CEST
DTSTART:20210328T010000
END:DAYLIGHT
BEGIN:STANDARD
TZOFFSETFROM:+0200
TZOFFSETTO:+0100
TZNAME:CET
DTSTART:20211031T010000
END:STANDARD
BEGIN:DAYLIGHT
TZOFFSETFROM:+0100
TZOFFSETTO:+0200
TZNAME:CEST
DTSTART:20220327T010000
END:DAYLIGHT
BEGIN:STANDARD
TZOFFSETFROM:+0200
TZOFFSETTO:+0100
TZNAME:CET
DTSTART:20221030T010000
END:STANDARD
END:VTIMEZONE
BEGIN:VEVENT
DTSTART;TZID=Europe/Berlin:20211205T170000
DTEND;TZID=Europe/Berlin:20211205T170000
DTSTAMP:20260422T001854
CREATED:20211112T145937Z
LAST-MODIFIED:20211112T150013Z
UID:3651-1638723600-1638723600@lyrikhandlung.de
SUMMARY:Nichts \, nur - Lesung mit Walle Sayer
DESCRIPTION:Gegenden\, Landschaften\, Orte\, ein Figurenkabinett\, die Herkunft\, der Historienhauch\, das Antlitz der Dinge\, Wortfährten\, Alltagsbühnen … »Nichts\, nur« versammelt Gedichte\, Prosagedichte und Erzählminiaturen von Walle Sayer aus 35 Jahren\, von denen er einige vortragen wird. \nWalle Sayer lebt mit seiner Familie in Horb und schreibt Gedichte und Prosa. Er erhielt zahlreiche Auszeichnungen und Stipendien\, u. a. den Thaddäus-Troll-Preis\, den Förderpreis zum Hölderlinpreis\, das Hermann-Lenz-Stipendium\, den Berthold-Auerbach-Preis\, die Staufermedaille des Landes Baden-Württemberg\, den Ludwig-Uhland-Förderpreis\, das Spreewald Literaturstipendium\, den Basler Lyrikpreis fürs bisherige Gesamtwerk sowie den Gerlinger Lyrikpreis. Er ist Mitglied im deutschen PEN. \nUnter www.kroener-verlag.de/suche/?keywords=walle+sayer finden Sie weitere Informationen zu Autor und Buch.
URL:https://lyrikhandlung.de/lyrikkalender-bw/nichts-nur-lesung-mit-walle-sayer/
LOCATION:PEN – Zentrum Deutschland\, Stadtbibliothek Göppingen\, Altes E-Werk\, Mörikestrasse 18\, Göppingen\, Baden-Württemberg\, 73033
ORGANIZER;CN="PEN - Zentrum Deutschland%2C Stadtbibliothek G%C3%B6ppingen":MAILTO:kontakt@odeon-goeppingen.de
END:VEVENT
END:VCALENDAR