BEGIN:VCALENDAR
VERSION:2.0
PRODID:-//Lyrikhandlung am Hölderlinturm - ECPv6.15.20//NONSGML v1.0//EN
CALSCALE:GREGORIAN
METHOD:PUBLISH
X-ORIGINAL-URL:https://lyrikhandlung.de
X-WR-CALDESC:Veranstaltungen für Lyrikhandlung am Hölderlinturm
REFRESH-INTERVAL;VALUE=DURATION:PT1H
X-Robots-Tag:noindex
X-PUBLISHED-TTL:PT1H
BEGIN:VTIMEZONE
TZID:Europe/Berlin
BEGIN:DAYLIGHT
TZOFFSETFROM:+0100
TZOFFSETTO:+0200
TZNAME:CEST
DTSTART:20200329T010000
END:DAYLIGHT
BEGIN:STANDARD
TZOFFSETFROM:+0200
TZOFFSETTO:+0100
TZNAME:CET
DTSTART:20201025T010000
END:STANDARD
BEGIN:DAYLIGHT
TZOFFSETFROM:+0100
TZOFFSETTO:+0200
TZNAME:CEST
DTSTART:20210328T010000
END:DAYLIGHT
BEGIN:STANDARD
TZOFFSETFROM:+0200
TZOFFSETTO:+0100
TZNAME:CET
DTSTART:20211031T010000
END:STANDARD
BEGIN:DAYLIGHT
TZOFFSETFROM:+0100
TZOFFSETTO:+0200
TZNAME:CEST
DTSTART:20220327T010000
END:DAYLIGHT
BEGIN:STANDARD
TZOFFSETFROM:+0200
TZOFFSETTO:+0100
TZNAME:CET
DTSTART:20221030T010000
END:STANDARD
END:VTIMEZONE
BEGIN:VEVENT
DTSTART;TZID=Europe/Berlin:20211118T160000
DTEND;TZID=Europe/Berlin:20211118T170000
DTSTAMP:20260422T034100
CREATED:20211106T090206Z
LAST-MODIFIED:20211106T222545Z
UID:3507-1637251200-1637254800@lyrikhandlung.de
SUMMARY:Supernova: Supersale mit Gespräch und Musik bei Kaffee und Kuchen
DESCRIPTION:Vor 20 Jahren öffnete Claudia Leutner ihre feinsortierte Buchhandlung im Literaturhaus Stuttgart; zum Ende des Jahres verabschiedet sie sich nun in den Ruhestand. Bevor im Februar 2022 Gabi Kolwe die Nachfolge antritt\, möchten wir diesen literarischen Buchhandlungsstern noch einmal zum Leuchten bringen und Sie mit Musik und Kuchen zu einer Supernova einladen! Supernova meint das kurzzeitige\, helle und explosive Aufleuchten eines Sterns am Ende seiner Zeit. Entdecken Sie im Silberstaub Erstausgaben\, Klassiker und Romane\, die Sie immer lesen wollten und greifen Sie zu. Am Flügel begrüßt Sie André Weiß und mit Claudia Leutner ins Gespräch kommt der ehemalige Leiter des Stuttgarter Literaturhauses Florian Höllerer. \nAndré Weiß (Pianist)\nEintritt frei
URL:https://lyrikhandlung.de/lyrikkalender-bw/supernova-supersale-mit-gespraech-und-musik-bei-kaffee-und-kuchen/
LOCATION:Baden-Würtemberg
ORGANIZER;CN="Literaturhaus Stuttgart":MAILTO:info@literaturhaus-stuttgart.de
END:VEVENT
BEGIN:VEVENT
DTSTART;TZID=Europe/Berlin:20211118T200000
DTEND;TZID=Europe/Berlin:20211118T200000
DTSTAMP:20260422T034100
CREATED:20211106T222504Z
LAST-MODIFIED:20211106T222504Z
UID:3274-1637265600-1637265600@lyrikhandlung.de
SUMMARY:zwischen/miete Carla Cerda
DESCRIPTION:Junge Literatur im POW \n„wir wirbeln und rascheln im Dickicht\, unsere Nasen ragen\nbequem\, lässig und solidarisch in die wahren Geschichten: please note\nthat you are responsible for your own safety when you join this tour“ \nWas für eine Tour ist das\, zu der Carla Cerda in ihrem Debüt „Loops“ (roughbooks\, 2020) einlädt? Eine\, so viel ist sicher\, die wir so noch nie erlebt haben. Wir begegnen dabei reimenden Stachelhäutern in Unterwasserwelten\, beobachten das Seekabel MAREA bei seinem zukünftigen Verfall\, bevor Bambi die Evolution anregt. Was wir in diesen wahrscheinlichen Zukünften und unwahrscheinlichen Vergangenheiten über unsere Gegenwart erfahren\, ist humorvoll\, berührend\, schockierend. Mit seiner klangvollen und beweglichen Sprache entwickelt dieser Gedichtband einen Sog\, der tief in eine faszinierende Bildwelt hineinführt\, in der die Strukturen der Gegenwart in einem ungewohnten Licht erscheinen. \nCarla Cerda ist Biologin\, Dichterin und Übersetzerin aus dem Spanischen\, Englischen und Schwedischen. Sie gewann den Hauptpreis des open mike 2019. Die Reihe verwandelt das Café POW in einen literarischen Salon: Abendgesellschaften auf Socken\, organisiert und moderiert von einem Team Studierender. \nEintritt: 3 Euro (nur Abendkasse)
URL:https://lyrikhandlung.de/lyrikkalender-bw/zwischen-miete-carla-cerda/
LOCATION:Café POW\, Belfortstraße 52\, Freiburg\, Baden-Württemberg\, 79098\, Deutschland
END:VEVENT
END:VCALENDAR